BEGIN:VCALENDAR
VERSION:2.0
PRODID:-//Sabre//Sabre VObject 4.5.8//EN
CALSCALE:GREGORIAN
BEGIN:VEVENT
UID:sabre-vobject-d1466944-7a30-4ff2-a3cf-a65648d8f74f
DTSTAMP:20260424T112819Z
SUMMARY:Maiandacht in der Kapelle Maria im Felde bei Walchshofen
DESCRIPTION:https://www2.bistum-augsburg.de/gottesdienste/maiandacht-in-der
 -kapelle-maria-im-felde-bei-walchshofen_id1723880
DTSTART;TZID=Europe/Berlin:20260510T160000
DURATION:PT30M
LOCATION:St. Martin
END:VEVENT
END:VCALENDAR
