BEGIN:VCALENDAR
VERSION:2.0
PRODID:-//Sabre//Sabre VObject 4.5.8//EN
CALSCALE:GREGORIAN
BEGIN:VEVENT
UID:sabre-vobject-219f3bed-6099-4d60-a378-2fc65056ecd5
DTSTAMP:20260424T225049Z
SUMMARY:Heilige Messe
DESCRIPTION:https://www2.bistum-augsburg.de/gottesdienste/heilige-messe_id1
 723906
DTSTART;TZID=Europe/Berlin:20260430T080000
DURATION:PT30M
LOCATION:St. Stephanus\, Pfarrer-Marz-Weg 1\, 85250 Hohenzell
END:VEVENT
END:VCALENDAR
