BEGIN:VCALENDAR
VERSION:2.0
PRODID:-//Sabre//Sabre VObject 4.5.8//EN
CALSCALE:GREGORIAN
BEGIN:VEVENT
UID:sabre-vobject-72f3a681-881a-4dab-9afb-b5936c576eea
DTSTAMP:20260424T083955Z
SUMMARY:Rosenkranz
DESCRIPTION:https://www2.bistum-augsburg.de/gottesdienste/rosenkranz_id1723
 921
DTSTART;TZID=Europe/Berlin:20260514T183000
DURATION:PT30M
LOCATION:St. Clemens
END:VEVENT
END:VCALENDAR
