BEGIN:VCALENDAR
VERSION:2.0
PRODID:-//Sabre//Sabre VObject 4.5.8//EN
CALSCALE:GREGORIAN
BEGIN:VEVENT
UID:sabre-vobject-c5339d61-3f8e-43e1-9460-98a1ff32d7c9
DTSTAMP:20260424T030031Z
SUMMARY:Tauffeier
DESCRIPTION:https://www2.bistum-augsburg.de/gottesdienste/tauffeier_id17239
 25
DTSTART;TZID=Europe/Berlin:20260501T133000
DURATION:PT30M
LOCATION:St. Ulrich
END:VEVENT
END:VCALENDAR
