BEGIN:VCALENDAR
VERSION:2.0
PRODID:-//Sabre//Sabre VObject 4.5.8//EN
CALSCALE:GREGORIAN
BEGIN:VEVENT
UID:sabre-vobject-d3407e76-1704-42d9-9bf7-0f88ba8f0126
DTSTAMP:20260424T111448Z
SUMMARY:Rosenkranz für den Frieden in der Welt
DESCRIPTION:https://www2.bistum-augsburg.de/gottesdienste/rosenkranz-fuer-d
 en-frieden-in-der-welt_id1723934
DTSTART;TZID=Europe/Berlin:20260430T183000
DURATION:PT30M
LOCATION:Mariä Himmelfahrt
END:VEVENT
END:VCALENDAR
