BEGIN:VCALENDAR
VERSION:2.0
PRODID:-//Sabre//Sabre VObject 4.5.8//EN
CALSCALE:GREGORIAN
BEGIN:VEVENT
UID:sabre-vobject-e0a6486f-c46c-496d-a458-7cb5ece6e27d
DTSTAMP:20260425T031848Z
SUMMARY:Rosenkranz in St. Stephan
DESCRIPTION:https://www2.bistum-augsburg.de/gottesdienste/rosenkranz-in-st-
 stephan_id1723951
DTSTART;TZID=Europe/Berlin:20260510T183000
DURATION:PT30M
LOCATION:St. Nikolaus\, Wertingerstraße 61\, 86405 Meitingen
END:VEVENT
END:VCALENDAR
