BEGIN:VCALENDAR
VERSION:2.0
PRODID:-//Sabre//Sabre VObject 4.5.8//EN
CALSCALE:GREGORIAN
BEGIN:VEVENT
UID:sabre-vobject-7432b804-1507-4594-81d6-a31b060fb83c
DTSTAMP:20260425T154301Z
SUMMARY:Rosenkranz für alle Anliegen unserer Gemeinde
DESCRIPTION:https://www2.bistum-augsburg.de/gottesdienste/rosenkranz-fuer-a
 lle-anliegen-unserer-gemeinde_id1723955
DTSTART;TZID=Europe/Berlin:20260428T180000
DURATION:PT30M
LOCATION:Mariä Verkündigung
END:VEVENT
END:VCALENDAR
