BEGIN:VCALENDAR
VERSION:2.0
PRODID:-//Sabre//Sabre VObject 4.5.8//EN
CALSCALE:GREGORIAN
BEGIN:VEVENT
UID:sabre-vobject-87d57eae-2f28-412b-bff7-7d7c322f4535
DTSTAMP:20260423T055707Z
SUMMARY:Fußwallfahrt nach Violau\; \nTreffpunkt am Pfarrer-von-Ars-Platz
DESCRIPTION:https://www2.bistum-augsburg.de/gottesdienste/fusswallfahrt-nac
 h-violau-treffpunkt-am-pfarrer-von-ars-platz_id1723968
DTSTART;TZID=Europe/Berlin:20260501T060000
DURATION:PT30M
LOCATION:Mariä Verkündigung
END:VEVENT
END:VCALENDAR
