BEGIN:VCALENDAR
VERSION:2.0
PRODID:-//Sabre//Sabre VObject 4.5.8//EN
CALSCALE:GREGORIAN
BEGIN:VEVENT
UID:sabre-vobject-f2e7d5bf-c964-45fd-b412-ffdf2694964c
DTSTAMP:20260424T225044Z
SUMMARY:Taufe von Benedikt Feigl
DESCRIPTION:https://www2.bistum-augsburg.de/gottesdienste/taufe-von-benedik
 t-feigl_id1723975
DTSTART;TZID=Europe/Berlin:20260502T140000
DURATION:PT30M
LOCATION:St. Stephan
END:VEVENT
END:VCALENDAR
