BEGIN:VCALENDAR
VERSION:2.0
PRODID:-//Sabre//Sabre VObject 4.5.8//EN
CALSCALE:GREGORIAN
BEGIN:VEVENT
UID:sabre-vobject-ba83e8cf-4fad-42ca-bbb2-53841c6cdf57
DTSTAMP:20260425T200641Z
SUMMARY:Hl. Messe für
DESCRIPTION:https://www2.bistum-augsburg.de/gottesdienste/hl-messe-fuer_id1
 723990
DTSTART;TZID=Europe/Berlin:20260425T180000
DURATION:PT30M
LOCATION:St. Michael
END:VEVENT
END:VCALENDAR
