BEGIN:VCALENDAR
VERSION:2.0
PRODID:-//Sabre//Sabre VObject 4.5.8//EN
CALSCALE:GREGORIAN
BEGIN:VEVENT
UID:sabre-vobject-38a7960f-c97d-44ea-b437-4d7ddde02d70
DTSTAMP:20260423T142530Z
SUMMARY:Hl. Messe mit Ewige Anbetung für
DESCRIPTION:https://www2.bistum-augsburg.de/gottesdienste/hl-messe-mit-ewig
 e-anbetung-fuer_id1723991
DTSTART;TZID=Europe/Berlin:20260427T120000
DURATION:PT30M
LOCATION:St. Michael
END:VEVENT
END:VCALENDAR
