BEGIN:VCALENDAR
VERSION:2.0
PRODID:-//Sabre//Sabre VObject 4.5.8//EN
CALSCALE:GREGORIAN
BEGIN:VEVENT
UID:sabre-vobject-6900db2f-bf15-4fd9-aa78-75cabb3b8916
DTSTAMP:20260424T233919Z
SUMMARY:Feierliche Maiandacht\; musik. gestaltet von der Koppbachtaler Stub
 enmusik
DESCRIPTION:https://www2.bistum-augsburg.de/gottesdienste/feierliche-maiand
 acht-musik-gestaltet-von-der-koppbachtaler-stubenmusik_id1724002
DTSTART;TZID=Europe/Berlin:20260501T190000
DURATION:PT30M
LOCATION:St. Magnus
END:VEVENT
END:VCALENDAR
