BEGIN:VCALENDAR
VERSION:2.0
PRODID:-//Sabre//Sabre VObject 4.5.8//EN
CALSCALE:GREGORIAN
BEGIN:VEVENT
UID:sabre-vobject-447ff5fc-e69d-4d5a-9261-757cca6aae0c
DTSTAMP:20260424T123702Z
SUMMARY:Familien- und Bezirkswallfahrt mit Maiandacht in Maria Elend (Orga:
  Kolpingsfamilie Meitingen e.V.)\n- Programm: 12:00 Uhr Familien-Picknick 
 an der Kapelle (bitte Essen und Getränke für die e
DESCRIPTION:https://www2.bistum-augsburg.de/gottesdienste/familien-und-bezi
 rkswallfahrt-mit-maiandacht-in-maria-elend-orga-kolpingsfamilie-meitingen-
 e-v-programm-12-00-uhr-familien-picknick-an-der-kapelle-bitte-essen-und-ge
 traenke-fuer-die-e_id1724022
DTSTART;TZID=Europe/Berlin:20260503T140000
DURATION:PT30M
LOCATION:St. Wolfgang
END:VEVENT
END:VCALENDAR
