BEGIN:VCALENDAR
VERSION:2.0
PRODID:-//Sabre//Sabre VObject 4.5.8//EN
CALSCALE:GREGORIAN
BEGIN:VEVENT
UID:sabre-vobject-33fea8a5-4e42-47b7-8a26-94f7f6ffdd9a
DTSTAMP:20260420T021631Z
SUMMARY:Kinderkirche
DESCRIPTION:https://www2.bistum-augsburg.de/gottesdienste/kinderkirche_id17
 24066
DTSTART;TZID=Europe/Berlin:20260426T100000
DURATION:PT30M
LOCATION:St. Jakobus maj.\, St.-Jakobs-Platz\, 86316 Friedberg
END:VEVENT
END:VCALENDAR
