BEGIN:VCALENDAR
VERSION:2.0
PRODID:-//Sabre//Sabre VObject 4.5.8//EN
CALSCALE:GREGORIAN
BEGIN:VEVENT
UID:sabre-vobject-57036066-11b2-413e-8b5c-9ca5eac738ba
DTSTAMP:20260423T173248Z
SUMMARY:Beichtgelegenheit
DESCRIPTION:https://www2.bistum-augsburg.de/gottesdienste/beichtgelegenheit
 _id1724070
DTSTART;TZID=Europe/Berlin:20260426T180000
DURATION:PT30M
LOCATION:St. Jakobus maj.\, St.-Jakobs-Platz\, 86316 Friedberg
END:VEVENT
END:VCALENDAR
