BEGIN:VCALENDAR
VERSION:2.0
PRODID:-//Sabre//Sabre VObject 4.5.8//EN
CALSCALE:GREGORIAN
BEGIN:VEVENT
UID:sabre-vobject-b9eb2b50-a772-40f3-a86a-9d2c48391c7e
DTSTAMP:20260419T225303Z
SUMMARY:Wallfahrt mit Heimat- und Trachtenverein Aichstetten
DESCRIPTION:https://www2.bistum-augsburg.de/gottesdienste/wallfahrt-mit-hei
 mat-und-trachtenverein-aichstetten_id1724112
DTSTART;TZID=Europe/Berlin:20260503T113000
DURATION:PT30M
LOCATION:Mariä Schmerzen u. St. Ulrich\, Kirchhof 4\, 87764 Maria Steinbac
 h
END:VEVENT
END:VCALENDAR
