BEGIN:VCALENDAR
VERSION:2.0
PRODID:-//Sabre//Sabre VObject 4.5.8//EN
CALSCALE:GREGORIAN
BEGIN:VEVENT
UID:sabre-vobject-bf898113-959a-46bc-bd13-ea8f43316dd2
DTSTAMP:20260420T040706Z
SUMMARY:Maiandacht - Opfer f.d.Maialtar
DESCRIPTION:https://www2.bistum-augsburg.de/gottesdienste/maiandacht-opfer-
 f-d-maialtar_id1724122
DTSTART;TZID=Europe/Berlin:20260501T190000
DURATION:PT30M
LOCATION:St. Veronika
END:VEVENT
END:VCALENDAR
