BEGIN:VCALENDAR
VERSION:2.0
PRODID:-//Sabre//Sabre VObject 4.5.8//EN
CALSCALE:GREGORIAN
BEGIN:VEVENT
UID:sabre-vobject-6ac053a3-3cf2-40cc-a251-72c0117bcbe1
DTSTAMP:20260421T140743Z
SUMMARY:Abschluss mit dem Eucharistischen Segen
DESCRIPTION:https://www2.bistum-augsburg.de/gottesdienste/abschluss-mit-dem
 -eucharistischen-segen_id1724174
DTSTART;TZID=Europe/Berlin:20260502T120000
DURATION:PT30M
LOCATION:St. Gordian und Epimach
END:VEVENT
END:VCALENDAR
