BEGIN:VCALENDAR
VERSION:2.0
PRODID:-//Sabre//Sabre VObject 4.5.8//EN
CALSCALE:GREGORIAN
BEGIN:VEVENT
UID:sabre-vobject-991df81c-f62d-4505-9369-8600675f2249
DTSTAMP:20260424T213747Z
SUMMARY:Rosenkranz in der Kapelle St. Martin Erlingen
DESCRIPTION:https://www2.bistum-augsburg.de/gottesdienste/rosenkranz-in-der
 -kapelle-st-martin-erlingen_id1724210
DTSTART;TZID=Europe/Berlin:20260426T180000
DURATION:PT30M
LOCATION:St. Clemens
END:VEVENT
END:VCALENDAR
