BEGIN:VCALENDAR
VERSION:2.0
PRODID:-//Sabre//Sabre VObject 4.5.8//EN
CALSCALE:GREGORIAN
BEGIN:VEVENT
UID:sabre-vobject-659c1287-816a-495e-bc9f-0d322d34b145
DTSTAMP:20260425T155514Z
SUMMARY:Festgottesdienst mit anschl. Maiandacht für die Pfarreiengemeinsch
 aft
DESCRIPTION:https://www2.bistum-augsburg.de/gottesdienste/festgottesdienst-
 mit-anschl-maiandacht-fuer-die-pfarreiengemeinschaft_id1724213
DTSTART;TZID=Europe/Berlin:20260501T180000
DURATION:PT30M
LOCATION:St. Wolfgang
END:VEVENT
END:VCALENDAR
