BEGIN:VCALENDAR
VERSION:2.0
PRODID:-//Sabre//Sabre VObject 4.5.8//EN
CALSCALE:GREGORIAN
BEGIN:VEVENT
UID:sabre-vobject-0e0e4c78-9876-4d84-ad25-61bb8a80e44a
DTSTAMP:20260419T154226Z
SUMMARY:Feierliche Maiandacht mit Aussetzung des Allerheiligsten
DESCRIPTION:https://www2.bistum-augsburg.de/gottesdienste/feierliche-maiand
 acht-mit-aussetzung-des-allerheiligsten_id1724241
DTSTART;TZID=Europe/Berlin:20260501T190000
DURATION:PT30M
LOCATION:Mariä Verkündigung
END:VEVENT
END:VCALENDAR
