BEGIN:VCALENDAR
VERSION:2.0
PRODID:-//Sabre//Sabre VObject 4.5.8//EN
CALSCALE:GREGORIAN
BEGIN:VEVENT
UID:sabre-vobject-2a73d4fd-cb79-431a-b441-060f9abdc9ad
DTSTAMP:20260425T103919Z
SUMMARY:Heilige Messe
DESCRIPTION:https://www2.bistum-augsburg.de/gottesdienste/heilige-messe_id1
 724279
DTSTART;TZID=Europe/Berlin:20260517T084500
DURATION:PT30M
LOCATION:St. Vitus\, Dorfstraße 23\, 85276 Göbelsbach
END:VEVENT
END:VCALENDAR
