BEGIN:VCALENDAR
VERSION:2.0
PRODID:-//Sabre//Sabre VObject 4.5.8//EN
CALSCALE:GREGORIAN
BEGIN:VEVENT
UID:sabre-vobject-2023e0b0-be06-4988-b9da-2621be97e148
DTSTAMP:20260424T043130Z
SUMMARY:Heilige Messe mit Feier der Ersten Heiligen Kommunion
DESCRIPTION:https://www2.bistum-augsburg.de/gottesdienste/heilige-messe-mit
 -feier-der-ersten-heiligen-kommunion_id1724306
DTSTART;TZID=Europe/Berlin:20260426T090000
DURATION:PT30M
LOCATION:Mariä Heimsuchung
END:VEVENT
END:VCALENDAR
