BEGIN:VCALENDAR
VERSION:2.0
PRODID:-//Sabre//Sabre VObject 4.5.8//EN
CALSCALE:GREGORIAN
BEGIN:VEVENT
UID:sabre-vobject-9686c462-3054-4da1-a90a-0836ddc664f6
DTSTAMP:20260425T132714Z
SUMMARY:Bittgang nach Sachenbach m. anschl. Maiandacht
DESCRIPTION:https://www2.bistum-augsburg.de/gottesdienste/bittgang-nach-sac
 henbach-m-anschl-maiandacht_id1724309
DTSTART;TZID=Europe/Berlin:20260512T190000
DURATION:PT30M
LOCATION:Mariä Heimsuchung
END:VEVENT
END:VCALENDAR
