BEGIN:VCALENDAR
VERSION:2.0
PRODID:-//Sabre//Sabre VObject 4.5.8//EN
CALSCALE:GREGORIAN
BEGIN:VEVENT
UID:sabre-vobject-0fa3b353-a6c9-4e19-8154-d5954fc76eb1
DTSTAMP:20260425T003212Z
SUMMARY:Maiandacht mit Prozession zur Mühle
DESCRIPTION:https://www2.bistum-augsburg.de/gottesdienste/maiandacht-mit-pr
 ozession-zur-muehle_id1724312
DTSTART;TZID=Europe/Berlin:20260503T190000
DURATION:PT30M
LOCATION:St. Sebastian\, Adelshausener Str. 6\, 86558 Hohenwart
END:VEVENT
END:VCALENDAR
