BEGIN:VCALENDAR
VERSION:2.0
PRODID:-//Sabre//Sabre VObject 4.5.8//EN
CALSCALE:GREGORIAN
BEGIN:VEVENT
UID:sabre-vobject-f114a756-7180-4c9e-9dae-fab417e5b41f
DTSTAMP:20260425T153119Z
SUMMARY:Heilige Messe zum 5. Sonntag in der Osterzeit
DESCRIPTION:https://www2.bistum-augsburg.de/gottesdienste/heilige-messe-zum
 -5-sonntag-in-der-osterzeit_id1724330
DTSTART;TZID=Europe/Berlin:20260503T084500
DURATION:PT30M
LOCATION:St. Pantaleon\, Kirchberg 5\, 86558 Hohenwart - Deimhausen
END:VEVENT
END:VCALENDAR
