BEGIN:VCALENDAR
VERSION:2.0
PRODID:-//Sabre//Sabre VObject 4.5.8//EN
CALSCALE:GREGORIAN
BEGIN:VEVENT
UID:sabre-vobject-094f93ec-6d4d-437a-8993-d9bc5fd6e920
DTSTAMP:20260419T224048Z
SUMMARY:Rosenkranz
DESCRIPTION:https://www2.bistum-augsburg.de/gottesdienste/rosenkranz_id1724
 333
DTSTART;TZID=Europe/Berlin:20260421T183000
DURATION:PT30M
LOCATION:St. Vitus\, Dorfstraße 23\, 85276 Göbelsbach
END:VEVENT
END:VCALENDAR
