BEGIN:VCALENDAR
VERSION:2.0
PRODID:-//Sabre//Sabre VObject 4.5.8//EN
CALSCALE:GREGORIAN
BEGIN:VEVENT
UID:sabre-vobject-68061991-e75f-4f10-ab23-62949145b6d2
DTSTAMP:20260420T074506Z
SUMMARY:Thierham: Maiandacht in der Kapelle
DESCRIPTION:https://www2.bistum-augsburg.de/gottesdienste/thierham-maiandac
 ht-in-der-kapelle_id1724338
DTSTART;TZID=Europe/Berlin:20260503T140000
DURATION:PT30M
LOCATION:St. Georg
END:VEVENT
END:VCALENDAR
