BEGIN:VCALENDAR
VERSION:2.0
PRODID:-//Sabre//Sabre VObject 4.5.8//EN
CALSCALE:GREGORIAN
BEGIN:VEVENT
UID:sabre-vobject-71906605-d76e-467c-9dd4-b28f75e90110
DTSTAMP:20260425T035254Z
SUMMARY:Taufe
DESCRIPTION:https://www2.bistum-augsburg.de/gottesdienste/taufe_id1724343
DTSTART;TZID=Europe/Berlin:20260510T113000
DURATION:PT30M
LOCATION:St. Georg
END:VEVENT
END:VCALENDAR
