BEGIN:VCALENDAR
VERSION:2.0
PRODID:-//Sabre//Sabre VObject 4.5.8//EN
CALSCALE:GREGORIAN
BEGIN:VEVENT
UID:sabre-vobject-ba615dce-6c0e-4cc7-86ad-3edf3c008f3b
DTSTAMP:20260424T151053Z
SUMMARY:Konzert in der Pfarrkirche
DESCRIPTION:https://www2.bistum-augsburg.de/gottesdienste/konzert-in-der-pf
 arrkirche_id1724351
DTSTART;TZID=Europe/Berlin:20260517T160000
DURATION:PT30M
LOCATION:St. Georg
END:VEVENT
END:VCALENDAR
