BEGIN:VCALENDAR
VERSION:2.0
PRODID:-//Sabre//Sabre VObject 4.5.8//EN
CALSCALE:GREGORIAN
BEGIN:VEVENT
UID:sabre-vobject-c65de765-719b-47d7-abfa-ad7164a33f3d
DTSTAMP:20260425T143257Z
SUMMARY:Heilige Messe
DESCRIPTION:https://www2.bistum-augsburg.de/gottesdienste/heilige-messe_id1
 724356
DTSTART;TZID=Europe/Berlin:20260522T190000
DURATION:PT30M
LOCATION:St. Sebastian\, Adelshausener Str. 6\, 86558 Hohenwart
END:VEVENT
END:VCALENDAR
