BEGIN:VCALENDAR
VERSION:2.0
PRODID:-//Sabre//Sabre VObject 4.5.8//EN
CALSCALE:GREGORIAN
BEGIN:VEVENT
UID:sabre-vobject-486e2868-8df9-4872-90c0-b2ecf44b96c7
DTSTAMP:20260419T174510Z
SUMMARY:Heilige Messe mit Begrüßung der neuen PGR-Mitglieder\, Kollekte f
 ür die Ministranten
DESCRIPTION:https://www2.bistum-augsburg.de/gottesdienste/heilige-messe-mit
 -begruessung-der-neuen-pgr-mitglieder-kollekte-fuer-die-ministranten_id172
 4376
DTSTART;TZID=Europe/Berlin:20260503T100000
DURATION:PT30M
LOCATION:Christkönig
END:VEVENT
END:VCALENDAR
