BEGIN:VCALENDAR
VERSION:2.0
PRODID:-//Sabre//Sabre VObject 4.5.8//EN
CALSCALE:GREGORIAN
BEGIN:VEVENT
UID:sabre-vobject-23b3622d-3fce-4979-942a-cc46e9a23327
DTSTAMP:20260424T113247Z
SUMMARY:Pfarrmesse - Hochfest - Patrona Bavariae anschl. feierliche Maierö
 ffnung
DESCRIPTION:https://www2.bistum-augsburg.de/gottesdienste/pfarrmesse-hochfe
 st-patrona-bavariae-anschl-feierliche-maieroeffnung_id1724379
DTSTART;TZID=Europe/Berlin:20260501T180000
DURATION:PT30M
LOCATION:St. Jakobus maj.\, St.-Jakobs-Platz\, 86316 Friedberg
END:VEVENT
END:VCALENDAR
