BEGIN:VCALENDAR
VERSION:2.0
PRODID:-//Sabre//Sabre VObject 4.5.8//EN
CALSCALE:GREGORIAN
BEGIN:VEVENT
UID:sabre-vobject-2513ec02-a4a7-4f4e-8eb6-e64d144f939a
DTSTAMP:20260422T104922Z
SUMMARY:Hl. Messe
DESCRIPTION:https://www2.bistum-augsburg.de/gottesdienste/hl-messe_id172439
 1
DTSTART;TZID=Europe/Berlin:20260506T183000
DURATION:PT30M
LOCATION:St. Jakobus maj.\, St.-Jakobs-Platz\, 86316 Friedberg
END:VEVENT
END:VCALENDAR
