BEGIN:VCALENDAR
VERSION:2.0
PRODID:-//Sabre//Sabre VObject 4.5.8//EN
CALSCALE:GREGORIAN
BEGIN:VEVENT
UID:sabre-vobject-e88fbaab-4484-4adf-adf2-d04ee28a1bb7
DTSTAMP:20260423T223710Z
SUMMARY:Pfarrmesse
DESCRIPTION:https://www2.bistum-augsburg.de/gottesdienste/pfarrmesse_id1724
 398
DTSTART;TZID=Europe/Berlin:20260510T100000
DURATION:PT30M
LOCATION:St. Jakobus maj.\, St.-Jakobs-Platz\, 86316 Friedberg
END:VEVENT
END:VCALENDAR
