BEGIN:VCALENDAR
VERSION:2.0
PRODID:-//Sabre//Sabre VObject 4.5.8//EN
CALSCALE:GREGORIAN
BEGIN:VEVENT
UID:sabre-vobject-102d9d4e-201b-49e4-bd2f-e2e0838a855a
DTSTAMP:20260424T013643Z
SUMMARY:Mariensingen
DESCRIPTION:https://www2.bistum-augsburg.de/gottesdienste/mariensingen_id17
 24400
DTSTART;TZID=Europe/Berlin:20260510T160000
DURATION:PT30M
LOCATION:St. Jakobus maj.\, St.-Jakobs-Platz\, 86316 Friedberg
END:VEVENT
END:VCALENDAR
