BEGIN:VCALENDAR
VERSION:2.0
PRODID:-//Sabre//Sabre VObject 4.5.8//EN
CALSCALE:GREGORIAN
BEGIN:VEVENT
UID:sabre-vobject-ea1e29f9-c1b9-4c17-b8ea-be93f53f0ccc
DTSTAMP:20260423T205024Z
SUMMARY:Festgottesdienst mit anschl. Fahrzeugsegnung. Musik. Gestaltung: Ki
 rchenchor
DESCRIPTION:https://www2.bistum-augsburg.de/gottesdienste/festgottesdienst-
 mit-anschl-fahrzeugsegnung-musik-gestaltung-kirchenchor_id1724445
DTSTART;TZID=Europe/Berlin:20260501T190000
DURATION:PT30M
LOCATION:Heilig Kreuz
END:VEVENT
END:VCALENDAR
