BEGIN:VCALENDAR
VERSION:2.0
PRODID:-//Sabre//Sabre VObject 4.5.8//EN
CALSCALE:GREGORIAN
BEGIN:VEVENT
UID:sabre-vobject-57bb447d-2b01-4a65-a2e4-9d9f4b49f5cf
DTSTAMP:20260425T111212Z
SUMMARY:Festgottesdienst mit anschl. Fahrzeugsegnung
DESCRIPTION:https://www2.bistum-augsburg.de/gottesdienste/festgottesdienst-
 mit-anschl-fahrzeugsegnung_id1724448
DTSTART;TZID=Europe/Berlin:20260501T103000
DURATION:PT30M
LOCATION:St. Michael
END:VEVENT
END:VCALENDAR
