BEGIN:VCALENDAR
VERSION:2.0
PRODID:-//Sabre//Sabre VObject 4.5.8//EN
CALSCALE:GREGORIAN
BEGIN:VEVENT
UID:sabre-vobject-71438fec-baaf-4c77-af96-642b93617309
DTSTAMP:20260426T001509Z
SUMMARY:Wortgottesfeier mit Möglichkeit zum Kommunionempfang
DESCRIPTION:https://www2.bistum-augsburg.de/gottesdienste/wortgottesfeier-m
 it-moeglichkeit-zum-kommunionempfang_id1724455
DTSTART;TZID=Europe/Berlin:20260426T090000
DURATION:PT30M
LOCATION:St. Ulrich
END:VEVENT
END:VCALENDAR
