BEGIN:VCALENDAR
VERSION:2.0
PRODID:-//Sabre//Sabre VObject 4.5.8//EN
CALSCALE:GREGORIAN
BEGIN:VEVENT
UID:sabre-vobject-9c8ab446-0f78-4d06-b766-2c9a277cdfc2
DTSTAMP:20260426T011813Z
SUMMARY:Friedensgebet
DESCRIPTION:https://www2.bistum-augsburg.de/gottesdienste/friedensgebet_id1
 724464
DTSTART;TZID=Europe/Berlin:20260429T063000
DURATION:PT30M
LOCATION:St. Oswald
END:VEVENT
END:VCALENDAR
