BEGIN:VCALENDAR
VERSION:2.0
PRODID:-//Sabre//Sabre VObject 4.5.8//EN
CALSCALE:GREGORIAN
BEGIN:VEVENT
UID:sabre-vobject-8b1a5410-e0ce-48f2-8e41-25bfcc2968cf
DTSTAMP:20260424T233734Z
SUMMARY:Rosenkranz an der Mehrzweckhalle
DESCRIPTION:https://www2.bistum-augsburg.de/gottesdienste/rosenkranz-an-der
 -mehrzweckhalle_id1724503
DTSTART;TZID=Europe/Berlin:20260429T180000
DURATION:PT30M
LOCATION:St. Stephan\, Kirchberg 4\, 87647 Oberthingau
END:VEVENT
END:VCALENDAR
