BEGIN:VCALENDAR
VERSION:2.0
PRODID:-//Sabre//Sabre VObject 4.5.8//EN
CALSCALE:GREGORIAN
BEGIN:VEVENT
UID:sabre-vobject-f1df5014-10f3-4753-b52d-3d6cb736646e
DTSTAMP:20260425T125223Z
SUMMARY:Vorabendmesse
DESCRIPTION:https://www2.bistum-augsburg.de/gottesdienste/vorabendmesse_id1
 724532
DTSTART;TZID=Europe/Berlin:20260509T153000
DURATION:PT30M
LOCATION:St. Anton
END:VEVENT
END:VCALENDAR
