BEGIN:VCALENDAR
VERSION:2.0
PRODID:-//Sabre//Sabre VObject 4.5.8//EN
CALSCALE:GREGORIAN
BEGIN:VEVENT
UID:sabre-vobject-5a2bb891-611e-4f8b-bc28-4e4a63e13029
DTSTAMP:20260425T035113Z
SUMMARY:Rosenkranz
DESCRIPTION:https://www2.bistum-augsburg.de/gottesdienste/rosenkranz_id1724
 561
DTSTART;TZID=Europe/Berlin:20260424T082500
DURATION:PT30M
LOCATION:Münster Unserer Lieben Frau\, Fischergasse 12\, 88131 Lindau
END:VEVENT
END:VCALENDAR
