BEGIN:VCALENDAR
VERSION:2.0
PRODID:-//Sabre//Sabre VObject 4.5.8//EN
CALSCALE:GREGORIAN
BEGIN:VEVENT
UID:sabre-vobject-60ce881b-9a8a-4b00-bebe-0708e76f180b
DTSTAMP:20260424T111613Z
SUMMARY:Maiandacht gestaltet vom Frauenbund
DESCRIPTION:https://www2.bistum-augsburg.de/gottesdienste/maiandacht-gestal
 tet-vom-frauenbund_id1724599
DTSTART;TZID=Europe/Berlin:20260507T163000
DURATION:PT30M
LOCATION:St. Maximilian\, Franziskanergasse 4\, 86152 Augsburg
END:VEVENT
END:VCALENDAR
