BEGIN:VCALENDAR
VERSION:2.0
PRODID:-//Sabre//Sabre VObject 4.5.8//EN
CALSCALE:GREGORIAN
BEGIN:VEVENT
UID:sabre-vobject-5da77cf7-2596-4a02-b2b8-89ead23c031c
DTSTAMP:20260422T191931Z
SUMMARY:Rosenkranz
DESCRIPTION:https://www2.bistum-augsburg.de/gottesdienste/rosenkranz_id1724
 604
DTSTART;TZID=Europe/Berlin:20260427T080000
DURATION:PT30M
LOCATION:St. Peter und Paul\, Schwabenstraße 26\, 87640 Ebenhofen
END:VEVENT
END:VCALENDAR
