BEGIN:VCALENDAR
VERSION:2.0
PRODID:-//Sabre//Sabre VObject 4.5.8//EN
CALSCALE:GREGORIAN
BEGIN:VEVENT
UID:sabre-vobject-18bd1393-961c-4b1b-a736-b14775880023
DTSTAMP:20260425T021025Z
SUMMARY:Altenh.: Anbetung bis 22.00 Uhr
DESCRIPTION:https://www2.bistum-augsburg.de/gottesdienste/altenh-anbetung-b
 is-22-00-uhr_id1724637
DTSTART;TZID=Europe/Berlin:20260507T193000
DURATION:PT30M
LOCATION:St. Anna
END:VEVENT
END:VCALENDAR
