BEGIN:VCALENDAR
VERSION:2.0
PRODID:-//Sabre//Sabre VObject 4.5.8//EN
CALSCALE:GREGORIAN
BEGIN:VEVENT
UID:sabre-vobject-93a1ec1a-4fd9-4e6c-90d2-0c514f70bd32
DTSTAMP:20260425T175638Z
SUMMARY:Altenh.: Heilige Messe
DESCRIPTION:https://www2.bistum-augsburg.de/gottesdienste/altenh-heilige-me
 sse_id1724638
DTSTART;TZID=Europe/Berlin:20260508T100000
DURATION:PT30M
LOCATION:St. Anna
END:VEVENT
END:VCALENDAR
