BEGIN:VCALENDAR
VERSION:2.0
PRODID:-//Sabre//Sabre VObject 4.5.8//EN
CALSCALE:GREGORIAN
BEGIN:VEVENT
UID:sabre-vobject-e2faa195-66d1-4d46-9b48-c0be0ef75e54
DTSTAMP:20260424T034159Z
SUMMARY:Heilige Messe\, anschl. Konvent-Rosenkranz
DESCRIPTION:https://www2.bistum-augsburg.de/gottesdienste/heilige-messe-ans
 chl-konvent-rosenkranz_id1724642
DTSTART;TZID=Europe/Berlin:20260503T083000
DURATION:PT30M
LOCATION:St. Nikolaus\, Römerstraße 23\, 86424 Fleinhausen
END:VEVENT
END:VCALENDAR
