BEGIN:VCALENDAR
VERSION:2.0
PRODID:-//Sabre//Sabre VObject 4.5.8//EN
CALSCALE:GREGORIAN
BEGIN:VEVENT
UID:sabre-vobject-988c8c29-fc24-490c-938a-005e38b71f1d
DTSTAMP:20260424T033206Z
SUMMARY:Feier der Erstkommunion (Gruppe 2)\, musikalisch gestaltet vom Chor
  ConCED
DESCRIPTION:https://www2.bistum-augsburg.de/gottesdienste/feier-der-erstkom
 munion-gruppe-2-musikalisch-gestaltet-vom-chor-conced_id1724658
DTSTART;TZID=Europe/Berlin:20260426T100000
DURATION:PT30M
LOCATION:St. Theodor
END:VEVENT
END:VCALENDAR
