BEGIN:VCALENDAR
VERSION:2.0
PRODID:-//Sabre//Sabre VObject 4.5.8//EN
CALSCALE:GREGORIAN
BEGIN:VEVENT
UID:sabre-vobject-d7032394-9a6e-4b49-b033-55cb8754d21c
DTSTAMP:20260425T014816Z
SUMMARY:Vesper mit den Firmbewerbern
DESCRIPTION:https://www2.bistum-augsburg.de/gottesdienste/vesper-mit-den-fi
 rmbewerbern_id1724669
DTSTART;TZID=Europe/Berlin:20260425T174500
DURATION:PT30M
LOCATION:St. Josef
END:VEVENT
END:VCALENDAR
